BEGIN:VCALENDAR
VERSION:2.0
PRODID:-//InputZero - ECPv6.2.9//NONSGML v1.0//EN
CALSCALE:GREGORIAN
METHOD:PUBLISH
X-WR-CALNAME:InputZero
X-ORIGINAL-URL:https://inputzero.com
X-WR-CALDESC:Events for InputZero
REFRESH-INTERVAL;VALUE=DURATION:PT1H
X-Robots-Tag:noindex
X-PUBLISHED-TTL:PT1H
BEGIN:VTIMEZONE
TZID:UTC
BEGIN:STANDARD
TZOFFSETFROM:+0000
TZOFFSETTO:+0000
TZNAME:UTC
DTSTART:20220101T000000
END:STANDARD
END:VTIMEZONE
BEGIN:VEVENT
DTSTART;TZID=UTC:20220319T080000
DTEND;TZID=UTC:20220319T170000
DTSTAMP:20260423T093821
CREATED:20240110T055122Z
LAST-MODIFIED:20240110T055425Z
UID:23783-1647676800-1647709200@inputzero.com
SUMMARY:Achieve 2022
DESCRIPTION:Achieve 2022 was a series of events conducted across India by ServiceNow. Input Zero Technologies had the honour of being a gold sponsor of the events. Here is a small overview of our time at the events.
URL:https://inputzero.com/event/achieve-2022/
CATEGORIES:servicenow
ATTACH;FMTTYPE=image/png:https://inputzero.com/wp-content/uploads/2024/01/Achieve-22-1-1.png
END:VEVENT
END:VCALENDAR